BEGIN:VCALENDAR
VERSION:2.0
CALSCALE:GREGORIAN
PRODID:adamgibbons/ics
METHOD:PUBLISH
X-PUBLISHED-TTL:PT1H
BEGIN:VEVENT
UID:69ea5004e1c03952fdf617e4
SUMMARY:💣 War On Your Core 💣
DTSTAMP:20260420T135500Z
DTSTART:20260604T180000
DESCRIPTION:Meet at the tennis courts as denoted by the pin above. \n
URL:https://bua.fit/class/r52czNpLDZmp
GEO:51.562223283137946;-0.08697870779571071
LOCATION:Clissold Park\\\, Stoke Newington\\\, N16 9HJ
CATEGORIES:Bodyweight
ORGANIZER;CN=Bua Fit:mailto:info@buafit.com
DURATION:PT60M
END:VEVENT
END:VCALENDAR
