BEGIN:VCALENDAR
VERSION:2.0
CALSCALE:GREGORIAN
PRODID:adamgibbons/ics
METHOD:PUBLISH
X-PUBLISHED-TTL:PT1H
BEGIN:VEVENT
UID:69eb0ddd6ab04b24282417de
SUMMARY:Ultimate Bodyweight Bootcamp 🎯
DTSTAMP:20260420T135500Z
DTSTART:20260605T073000
DESCRIPTION:Meet at the Rookery
URL:https://bua.fit/class/rGdbW4mYSPjv
GEO:51.42145999999999;-0.12085
LOCATION:Streatham Common\\\, Streatham South\\\, SW16 3BX
CATEGORIES:HIIT
ORGANIZER;CN=Bua Fit:mailto:info@buafit.com
DURATION:PT60M
END:VEVENT
END:VCALENDAR
