BEGIN:VCALENDAR
VERSION:2.0
CALSCALE:GREGORIAN
PRODID:adamgibbons/ics
METHOD:PUBLISH
X-PUBLISHED-TTL:PT1H
BEGIN:VEVENT
UID:69ea41f441e6f252564a4c0f
SUMMARY:KAPOW💥:  Badass Bua Shadow Boxing 🥊
DTSTAMP:20260420T135500Z
DTSTART:20260604T170000
DESCRIPTION:Move that coffee table or get into the garden 🌿\n\nSee you onl
	ine. 👊
URL:https://bua.fit/class/rPu5FFegfF1C
LOCATION:Online
CATEGORIES:Boxing
ORGANIZER;CN=Bua Fit:mailto:info@buafit.com
DURATION:PT45M
END:VEVENT
END:VCALENDAR
