BEGIN:VCALENDAR
VERSION:2.0
CALSCALE:GREGORIAN
PRODID:adamgibbons/ics
METHOD:PUBLISH
X-PUBLISHED-TTL:PT1H
BEGIN:VEVENT
UID:69e9b554d985c12515ca8a11
SUMMARY:Run Fit Cardio Blast 🏃
DTSTAMP:20260420T135500Z
DTSTART:20260604T070000
DESCRIPTION:Meet at the bandstand as denoted by the pin. Please bring water
	.
URL:https://bua.fit/class/rezss8p1uomd
GEO:51.53610759986086;-0.03905783068847368
LOCATION:Victoria Park\\\, London\\\, E3 5TB
CATEGORIES:Cardio
ORGANIZER;CN=Bua Fit:mailto:info@buafit.com
DURATION:PT60M
END:VEVENT
END:VCALENDAR
