BEGIN:VCALENDAR
VERSION:2.0
CALSCALE:GREGORIAN
PRODID:adamgibbons/ics
METHOD:PUBLISH
X-PUBLISHED-TTL:PT1H
BEGIN:VEVENT
UID:69eb4d26b69f8e7dafd6f929
SUMMARY:Absolute Abs
DTSTAMP:20260420T135500Z
DTSTART:20260605T120000
DESCRIPTION:Meet on Zoom. Any injuries please direct message me.
URL:https://bua.fit/class/rpazkXxoXXWI
LOCATION:Online
CATEGORIES:HIIT,Core
ORGANIZER;CN=Bua Fit:mailto:info@buafit.com
DURATION:PT30M
END:VEVENT
END:VCALENDAR
