BEGIN:VCALENDAR
VERSION:2.0
CALSCALE:GREGORIAN
PRODID:adamgibbons/ics
METHOD:PUBLISH
X-PUBLISHED-TTL:PT1H
BEGIN:VEVENT
UID:69b6e584d560e21b698018a7
SUMMARY:Badass Bua Boxing 🥊
DTSTAMP:20260420T135500Z
DTSTART:20260426T170000
DESCRIPTION:Meet by the Rookery
URL:https://bua.fit/class/rqemSyxeR2yF
GEO:51.42145999999999;-0.12085000000001855
LOCATION:Streatham Common\\\, Streatham\\\, SW16 3BX
CATEGORIES:Boxing
ORGANIZER;CN=Bua Fit:mailto:info@buafit.com
DURATION:PT60M
END:VEVENT
END:VCALENDAR
