BEGIN:VCALENDAR
VERSION:2.0
CALSCALE:GREGORIAN
PRODID:adamgibbons/ics
METHOD:PUBLISH
X-PUBLISHED-TTL:PT1H
BEGIN:VEVENT
UID:69e9b554d0eb34287b008e14
SUMMARY:Burn Baby Burn
DTSTAMP:20260420T135500Z
DTSTART:20260604T070000
DESCRIPTION:Please bring water!
URL:https://bua.fit/class/sHLSLTyYQo1T
GEO:51.5191363;-0.1190231
LOCATION:Red Lion Square Gardens\\\, Red Lion Square\\\, WC1R 4QF
CATEGORIES:HIIT
ORGANIZER;CN=Bua Fit:mailto:info@buafit.com
DURATION:PT60M
END:VEVENT
END:VCALENDAR
