BEGIN:VCALENDAR
VERSION:2.0
CALSCALE:GREGORIAN
PRODID:adamgibbons/ics
METHOD:PUBLISH
X-PUBLISHED-TTL:PT1H
BEGIN:VEVENT
UID:69e7125615a7fc1cff5ab2ef
SUMMARY:Calorie Crusher🔥: BUA Online Bootcamp 😅
DTSTAMP:20260420T135500Z
DTSTART:20260602T070000
DESCRIPTION:Let’s get freaky fit 👊\n\nMeet online with a big fat SMILE 😃\
	n\nHave the H20 handy 💦
URL:https://bua.fit/class/sUc2EszN2cvi
LOCATION:Online
CATEGORIES:HIIT,Bodyweight
ORGANIZER;CN=Bua Fit:mailto:info@buafit.com
DURATION:PT45M
END:VEVENT
END:VCALENDAR
