BEGIN:VCALENDAR
VERSION:2.0
CALSCALE:GREGORIAN
PRODID:adamgibbons/ics
METHOD:PUBLISH
X-PUBLISHED-TTL:PT1H
BEGIN:VEVENT
UID:69ec9ea4798fdb2e6bb7a2d7
SUMMARY:Circuit Circus 🏃🏼🎪🏃🏼
DTSTAMP:20260420T135500Z
DTSTART:20260606T120000
DESCRIPTION:Meet by the basketball court 🏀and bring water💦
URL:https://bua.fit/class/shXVULYNGYiI
GEO:51.53983603969054;-0.060639238098147974
LOCATION:London Fields\\\, Hackney\\\, E8 3EU
CATEGORIES:Bodyweight
ORGANIZER;CN=Bua Fit:mailto:info@buafit.com
DURATION:PT60M
END:VEVENT
END:VCALENDAR
