BEGIN:VCALENDAR
VERSION:2.0
CALSCALE:GREGORIAN
PRODID:adamgibbons/ics
METHOD:PUBLISH
X-PUBLISHED-TTL:PT1H
BEGIN:VEVENT
UID:69b7a35c4a3c183e4640eec1
SUMMARY:The Monument Circuit Circus 🏃🏼💪
DTSTAMP:20260420T135500Z
DTSTART:20260427T063000
DESCRIPTION:It’s time to smash it💥\n\nMeet at the pin and bring water 🤝
URL:https://bua.fit/class/spp7cdKQI5Oi
GEO:51.51010627444491;-0.08582130059433091
LOCATION:Monument to the Great Fire of London\\\, Bridge\\\, EC3R 8AH
CATEGORIES:Bootcamp,HIIT
ORGANIZER;CN=Bua Fit:mailto:info@buafit.com
DURATION:PT60M
END:VEVENT
END:VCALENDAR
