BEGIN:VCALENDAR
VERSION:2.0
CALSCALE:GREGORIAN
PRODID:adamgibbons/ics
METHOD:PUBLISH
X-PUBLISHED-TTL:PT1H
BEGIN:VEVENT
UID:69b69f34cca65b18e789080e
SUMMARY:Calorie Crusher 🔥: Bamboo Bootcamp 😅
DTSTAMP:20260420T135500Z
DTSTART:20260426T120000
DESCRIPTION:Meet online 💻\nBring a big smile 😄
URL:https://bua.fit/class/t1TlsY7dQCpD
LOCATION:Online
CATEGORIES:HIIT
ORGANIZER;CN=Bua Fit:mailto:info@buafit.com
DURATION:PT45M
END:VEVENT
END:VCALENDAR
