BEGIN:VCALENDAR
VERSION:2.0
CALSCALE:GREGORIAN
PRODID:adamgibbons/ics
METHOD:PUBLISH
X-PUBLISHED-TTL:PT1H
BEGIN:VEVENT
UID:69e723e840875f7826c64b02
SUMMARY:⚡️ Calorie Crusher :: London's Baddest Bootcamp ⚡️
DTSTAMP:20260420T135500Z
DTSTART:20260602T081500
DESCRIPTION:You'll need water. Possibly gallons. \nMeet in the middle of th
	e square. \n
URL:https://bua.fit/class/td8BfBlKPVcx
GEO:51.5153121;-0.1321359
LOCATION:Soho Square\\\, Soho
CATEGORIES:HIIT
ORGANIZER;CN=Bua Fit:mailto:info@buafit.com
DURATION:PT40M
END:VEVENT
END:VCALENDAR
