BEGIN:VCALENDAR
VERSION:2.0
CALSCALE:GREGORIAN
PRODID:adamgibbons/ics
METHOD:PUBLISH
X-PUBLISHED-TTL:PT1H
BEGIN:VEVENT
UID:69db5f3a2986384ea9cc9264
SUMMARY:Test recurring company
DTSTAMP:20260420T135500Z
DTSTART:20260524T100000
DESCRIPTION:Test recurring company
URL:https://bua.fit/class/tfb5rEseBScy
GEO:51.52764879999999;-0.1330862
LOCATION:London Euston Station\\\, Greater London\\\, NW1 2EF
CATEGORIES:Boxing
ORGANIZER;CN=Bua Fit:mailto:info@buafit.com
DURATION:PT50M
END:VEVENT
END:VCALENDAR
