BEGIN:VCALENDAR
VERSION:2.0
CALSCALE:GREGORIAN
PRODID:adamgibbons/ics
METHOD:PUBLISH
X-PUBLISHED-TTL:PT1H
BEGIN:VEVENT
UID:69df6fa6f8b9873094818aaa
SUMMARY:Hump day booty workout 🍑
DTSTAMP:20260420T135500Z
DTSTART:20260527T120000
DESCRIPTION:Meet on zoom. Any injuries please direct message me.
URL:https://bua.fit/class/tuEQ4lpMMrj8
LOCATION:Online
CATEGORIES:Body Shape
ORGANIZER;CN=Bua Fit:mailto:info@buafit.com
DURATION:PT30M
END:VEVENT
END:VCALENDAR
