BEGIN:VCALENDAR
VERSION:2.0
CALSCALE:GREGORIAN
PRODID:adamgibbons/ics
METHOD:PUBLISH
X-PUBLISHED-TTL:PT1H
BEGIN:VEVENT
UID:69e8aa254689685f8477afb3
SUMMARY:Banging Box HIIT Fix 🎯 ⛅️
DTSTAMP:20260420T135500Z
DTSTART:20260603T120000
DESCRIPTION:Meet at the bandstand
URL:https://bua.fit/class/uDY1qDHfXzSa
GEO:51.4586117;-0.1493462
LOCATION:Clapham Common\\\, London\\\, SW4 9DE
CATEGORIES:Boxing
ORGANIZER;CN=Bua Fit:mailto:info@buafit.com
DURATION:PT60M
END:VEVENT
END:VCALENDAR
