BEGIN:VCALENDAR
VERSION:2.0
CALSCALE:GREGORIAN
PRODID:adamgibbons/ics
METHOD:PUBLISH
X-PUBLISHED-TTL:PT1H
BEGIN:VEVENT
UID:69e90c96d6aa6f1895c126f3
SUMMARY:Shesensu
DTSTAMP:20260420T135500Z
DTSTART:20260603T190000
DESCRIPTION:Shesensu is a unique fitness concept that combines cardio\, scu
	lpt\, stretch and mindfulness.\n \nExpect a soundtrack of world\, electron
	ic and tribal beats that touches you to the core.  It's about being playfu
	l\, mindful and sensual whilst achieving an effective workout that brings 
	balance physically and mentally. \n\nA WHOLE VIBE!! 
URL:https://bua.fit/class/uYH1Ke3iWVN1
GEO:51.40801290000001;-0.05052410000000001
LOCATION:Avenue Baptist Church\\\, Avenue Road\\\, BR3 4RX
CATEGORIES:Cardio,Mobility
ORGANIZER;CN=Bua Fit:mailto:info@buafit.com
DURATION:PT45M
END:VEVENT
END:VCALENDAR
