BEGIN:VCALENDAR
VERSION:2.0
CALSCALE:GREGORIAN
PRODID:adamgibbons/ics
METHOD:PUBLISH
X-PUBLISHED-TTL:PT1H
BEGIN:VEVENT
UID:69e5cee4ad5bd6172826e062
SUMMARY:Bua Yoga:Vinyasa 🌿🤸🏼‍♂️
DTSTAMP:20260408T175800Z
DTSTART:20260601T080000
DESCRIPTION:Meet online 📱\nIf you have a mat great but not crucial 👍
URL:https://bua.fit/class/ubPofLb4Tzp2
LOCATION:Online
CATEGORIES:Yoga
ORGANIZER;CN=Bua Fit:mailto:info@buafit.com
DURATION:PT45M
END:VEVENT
END:VCALENDAR
