BEGIN:VCALENDAR
VERSION:2.0
CALSCALE:GREGORIAN
PRODID:adamgibbons/ics
METHOD:PUBLISH
X-PUBLISHED-TTL:PT1H
BEGIN:VEVENT
UID:69e863d4fa59e362182b3978
SUMMARY:Circuit Circus 🏃🏼🎪🏃🏼
DTSTAMP:20260420T135500Z
DTSTART:20260603T070000
DESCRIPTION:Let's meet by the bandstand as denoted by the pin and bring wat
	er. 💦
URL:https://bua.fit/class/ugItx4Csv2qP
GEO:51.53616098834735;-0.03905783068847368
LOCATION:Victoria Park\\\, London\\\, E3 5TB
CATEGORIES:HIIT,Bodyweight
ORGANIZER;CN=Bua Fit:mailto:info@buafit.com
DURATION:PT45M
END:VEVENT
END:VCALENDAR
