BEGIN:VCALENDAR
VERSION:2.0
CALSCALE:GREGORIAN
PRODID:adamgibbons/ics
METHOD:PUBLISH
X-PUBLISHED-TTL:PT1H
BEGIN:VEVENT
UID:69b7b87438e6d5794161fbc4
SUMMARY:Monday Morning Yoga 😃🤸🏻‍♀️
DTSTAMP:20260420T135500Z
DTSTART:20260427T080000
DESCRIPTION:Bring a mat\, water and smile.😃
URL:https://bua.fit/class/v5LYer57zyZl
GEO:51.5096594;-0.08254159999999999
LOCATION:Saint Dunstan in the East Church Garden\\\, Billingsgate\\\, EC3R 
	5DD
CATEGORIES:Yoga
ORGANIZER;CN=Bua Fit:mailto:info@buafit.com
DURATION:PT60M
END:VEVENT
END:VCALENDAR
