BEGIN:VCALENDAR
VERSION:2.0
CALSCALE:GREGORIAN
PRODID:adamgibbons/ics
METHOD:PUBLISH
X-PUBLISHED-TTL:PT1H
BEGIN:VEVENT
UID:69e7a5fe4fa7527c066a2db3
SUMMARY:The Circuit Circus 🏃🏼🏃🏼‍♀‍🌳
DTSTAMP:20260420T135500Z
DTSTART:20260602T173000
DESCRIPTION:Meet by the climbing rock as denoted by the pin and bring water
	💦
URL:https://bua.fit/class/vBPvP5SU3oRn
GEO:51.53361453511941;-0.08469766441802751
LOCATION:Shoreditch Park\\\, New North Road\\\, N1 5EP
CATEGORIES:Bodyweight
ORGANIZER;CN=Bua Fit:mailto:info@buafit.com
DURATION:PT60M
END:VEVENT
END:VCALENDAR
