BEGIN:VCALENDAR
VERSION:2.0
CALSCALE:GREGORIAN
PRODID:adamgibbons/ics
METHOD:PUBLISH
X-PUBLISHED-TTL:PT1H
BEGIN:VEVENT
UID:69e863d64b05300a53362995
SUMMARY:Sunrise Yoga
DTSTAMP:20260420T135500Z
DTSTART:20260603T070000
DESCRIPTION:Bring water and a mat if possible.
URL:https://bua.fit/class/vLmRVlnfFDAV
GEO:51.551572640148365;-0.00522085816650808
LOCATION:Temple Mills Lane\\\, London
CATEGORIES:Yoga
ORGANIZER;CN=Bua Fit:mailto:info@buafit.com
DURATION:PT60M
END:VEVENT
END:VCALENDAR
