BEGIN:VCALENDAR
VERSION:2.0
CALSCALE:GREGORIAN
PRODID:adamgibbons/ics
METHOD:PUBLISH
X-PUBLISHED-TTL:PT1H
BEGIN:VEVENT
UID:69eb0ddd8bbf967afa7fc4ed
SUMMARY:BUA Yoga 🤸‍♀️
DTSTAMP:20260420T135500Z
DTSTART:20260605T073000
DESCRIPTION:Meet at the car park and bring your mat
URL:https://bua.fit/class/vWnARJDjAAkw
GEO:51.4330024;-0.1442391
LOCATION:Tooting Common Lake\\\, London\\\, SW16 1RT
CATEGORIES:Yoga
ORGANIZER;CN=Bua Fit:mailto:info@buafit.com
DURATION:PT60M
END:VEVENT
END:VCALENDAR
