BEGIN:VCALENDAR
VERSION:2.0
CALSCALE:GREGORIAN
PRODID:adamgibbons/ics
METHOD:PUBLISH
X-PUBLISHED-TTL:PT1H
BEGIN:VEVENT
UID:69e615354a49220d5d862e91
SUMMARY:💣 War On Your Core 💣
DTSTAMP:20260420T135500Z
DTSTART:20260601T130000
DESCRIPTION:Let's meet by the bandstand as denoted by the pin. Please bring
	 water. 
URL:https://bua.fit/class/vxjPwAcaK12s
GEO:51.536120946988355;-0.03909538161468218
LOCATION:Victoria Park\\\, London\\\, E3 5TB
CATEGORIES:Core,Body Slim
ORGANIZER;CN=Bua Fit:mailto:info@buafit.com
DURATION:PT45M
END:VEVENT
END:VCALENDAR
