BEGIN:VCALENDAR
VERSION:2.0
CALSCALE:GREGORIAN
PRODID:adamgibbons/ics
METHOD:PUBLISH
X-PUBLISHED-TTL:PT1H
BEGIN:VEVENT
UID:69e50a053ccc9052216e3e5c
SUMMARY:Sunday stretch & flex
DTSTAMP:20260420T135500Z
DTSTART:20260531T180000
DESCRIPTION:Meet on Zoom. Any injuries please direct message me.
URL:https://bua.fit/class/w28mDVNFW8MP
LOCATION:Online
CATEGORIES:Body Shape
ORGANIZER;CN=Bua Fit:mailto:info@buafit.com
DURATION:PT30M
END:VEVENT
END:VCALENDAR
