BEGIN:VCALENDAR
VERSION:2.0
CALSCALE:GREGORIAN
PRODID:adamgibbons/ics
METHOD:PUBLISH
X-PUBLISHED-TTL:PT1H
BEGIN:VEVENT
UID:69e6547d7a64a73ca1896e0d
SUMMARY:Box HIIT Fix 🎯
DTSTAMP:20260420T135500Z
DTSTART:20260601T173000
DESCRIPTION:Meet by the Skate Park
URL:https://bua.fit/class/w2KCznKblOrb
GEO:51.46113784002947;-0.14328822297058785
LOCATION:Clapham Common\\\, London\\\, SW4 9DE
CATEGORIES:Boxing
ORGANIZER;CN=Bua Fit:mailto:info@buafit.com
DURATION:PT60M
END:VEVENT
END:VCALENDAR
