BEGIN:VCALENDAR
VERSION:2.0
CALSCALE:GREGORIAN
PRODID:adamgibbons/ics
METHOD:PUBLISH
X-PUBLISHED-TTL:PT1H
BEGIN:VEVENT
UID:69e71255d7007830e05601f9
SUMMARY:⚡️ Calorie Crusher :: London's Baddest Bootcamp ⚡️
DTSTAMP:20260420T135500Z
DTSTART:20260602T070000
DESCRIPTION:You'll need water. Possibly gallons. \nPlease meet at the entra
	nce of the tennis courts\, as denoted by the pin. \n
URL:https://bua.fit/class/wDZa0w2jQs3p
GEO:51.49779740581498;-0.11618223425444718
LOCATION:Archbishop's Park\\\, South Bank\\\, SE1 7LE
CATEGORIES:Bootcamp,HIIT
ORGANIZER;CN=Bua Fit:mailto:info@buafit.com
DURATION:PT60M
END:VEVENT
END:VCALENDAR
