BEGIN:VCALENDAR
VERSION:2.0
CALSCALE:GREGORIAN
PRODID:adamgibbons/ics
METHOD:PUBLISH
X-PUBLISHED-TTL:PT1H
BEGIN:VEVENT
UID:69e7ad050c98df11c274b881
SUMMARY:Upper body workout 💪
DTSTAMP:20260420T135500Z
DTSTART:20260602T180000
DESCRIPTION:Meet on Zoom. Any injuries please direct message me.
URL:https://bua.fit/class/xOmEYLlU3SAf
LOCATION:Online
CATEGORIES:Core
ORGANIZER;CN=Bua Fit:mailto:info@buafit.com
DURATION:PT30M
END:VEVENT
END:VCALENDAR
