BEGIN:VCALENDAR
VERSION:2.0
CALSCALE:GREGORIAN
PRODID:adamgibbons/ics
METHOD:PUBLISH
X-PUBLISHED-TTL:PT1H
BEGIN:VEVENT
UID:69e5c0d4b82b9132d45d394f
SUMMARY:Calorie Crusher: London's Toughest Outdoor Bootcamp 😅🌍
DTSTAMP:20260408T175800Z
DTSTART:20260601T070000
DESCRIPTION:Meet by the basketball 🏀 court and bring water. 
URL:https://bua.fit/class/yTSMym64NhBv
GEO:51.53996949985585;-0.06049976322937356
LOCATION:London Fields\\\, Hackney\\\, E8 3EU
CATEGORIES:Bootcamp
ORGANIZER;CN=Bua Fit:mailto:info@buafit.com
DURATION:PT60M
END:VEVENT
END:VCALENDAR
