BEGIN:VCALENDAR
VERSION:2.0
CALSCALE:GREGORIAN
PRODID:adamgibbons/ics
METHOD:PUBLISH
X-PUBLISHED-TTL:PT1H
BEGIN:VEVENT
UID:69ea570d878f760380b13763
SUMMARY:Pilates: Contrology ⚡
DTSTAMP:20260420T135500Z
DTSTART:20260604T183000
DESCRIPTION:Please have a mat and water handy.
URL:https://bua.fit/class/yoZmqlAhBGm3
LOCATION:Online
CATEGORIES:Core,Pilates
ORGANIZER;CN=Bua Fit:mailto:info@buafit.com
DURATION:PT45M
END:VEVENT
END:VCALENDAR
