BEGIN:VCALENDAR
VERSION:2.0
CALSCALE:GREGORIAN
PRODID:adamgibbons/ics
METHOD:PUBLISH
X-PUBLISHED-TTL:PT1H
BEGIN:VEVENT
UID:69df3ae8efc26f4ce1c14e98
SUMMARY:Wednesday Recharge Yoga 🌳
DTSTAMP:20260408T175800Z
DTSTART:20260520T081500
DESCRIPTION:Please bring a mat and meet at the bandstand 👊
URL:https://bua.fit/class/yrU7dY1u71yp
GEO:51.51785820000001;-0.08643329999999999
LOCATION:Finsbury Circus Gardens\\\, London\\\, EC2M 7DT
CATEGORIES:Yoga
ORGANIZER;CN=Bua Fit:mailto:info@buafit.com
DURATION:PT60M
END:VEVENT
END:VCALENDAR
