BEGIN:VCALENDAR
VERSION:2.0
CALSCALE:GREGORIAN
PRODID:adamgibbons/ics
METHOD:PUBLISH
X-PUBLISHED-TTL:PT1H
BEGIN:VEVENT
UID:69e7195c239e2c00f5d87748
SUMMARY:Yoga Flow Mojo 🌾
DTSTAMP:20260420T135500Z
DTSTART:20260602T073000
DESCRIPTION:Meet by the entrance to the Rookery. Please bring your mat.
URL:https://bua.fit/class/yuVdWqeh6G1t
GEO:51.422328458614814;-0.11961013278809274
LOCATION:Streatham Common\\\, Streatham South\\\, SW16 3BX
CATEGORIES:Yoga
ORGANIZER;CN=Bua Fit:mailto:info@buafit.com
DURATION:PT60M
END:VEVENT
END:VCALENDAR
