BEGIN:VCALENDAR
VERSION:2.0
CALSCALE:GREGORIAN
PRODID:adamgibbons/ics
METHOD:PUBLISH
X-PUBLISHED-TTL:PT1H
BEGIN:VEVENT
UID:69b6ad4596f2cc04515fbd89
SUMMARY:KAPOW💥:  Badass Bua Shadow Boxing 🥊😃
DTSTAMP:20260420T135500Z
DTSTART:20260426T130000
DESCRIPTION:Meet at the pin and bring H20💦
URL:https://bua.fit/class/yyZ3p8GctDHd
GEO:51.5131502384365;-0.0966322576721268
LOCATION:Festival Gardens\\\, London\\\, EC4M 8AD
CATEGORIES:Boxing
ORGANIZER;CN=Bua Fit:mailto:info@buafit.com
DURATION:PT60M
END:VEVENT
END:VCALENDAR
